BEGIN:VCALENDAR
VERSION:2.0
PRODID:-//Beracahmusic Ministries International - ECPv6.15.20//NONSGML v1.0//EN
CALSCALE:GREGORIAN
METHOD:PUBLISH
X-WR-CALNAME:Beracahmusic Ministries International
X-ORIGINAL-URL:https://beracahmusic.co.uk
X-WR-CALDESC:Events for Beracahmusic Ministries International
REFRESH-INTERVAL;VALUE=DURATION:PT1H
X-Robots-Tag:noindex
X-PUBLISHED-TTL:PT1H
BEGIN:VTIMEZONE
TZID:Europe/London
BEGIN:DAYLIGHT
TZOFFSETFROM:+0000
TZOFFSETTO:+0100
TZNAME:BST
DTSTART:20210328T010000
END:DAYLIGHT
BEGIN:STANDARD
TZOFFSETFROM:+0100
TZOFFSETTO:+0000
TZNAME:GMT
DTSTART:20211031T010000
END:STANDARD
BEGIN:DAYLIGHT
TZOFFSETFROM:+0000
TZOFFSETTO:+0100
TZNAME:BST
DTSTART:20220327T010000
END:DAYLIGHT
BEGIN:STANDARD
TZOFFSETFROM:+0100
TZOFFSETTO:+0000
TZNAME:GMT
DTSTART:20221030T010000
END:STANDARD
BEGIN:DAYLIGHT
TZOFFSETFROM:+0000
TZOFFSETTO:+0100
TZNAME:BST
DTSTART:20230326T010000
END:DAYLIGHT
BEGIN:STANDARD
TZOFFSETFROM:+0100
TZOFFSETTO:+0000
TZNAME:GMT
DTSTART:20231029T010000
END:STANDARD
BEGIN:DAYLIGHT
TZOFFSETFROM:+0000
TZOFFSETTO:+0100
TZNAME:BST
DTSTART:20240331T010000
END:DAYLIGHT
BEGIN:STANDARD
TZOFFSETFROM:+0100
TZOFFSETTO:+0000
TZNAME:GMT
DTSTART:20241027T010000
END:STANDARD
END:VTIMEZONE
BEGIN:VEVENT
DTSTART;TZID=Europe/London:20231224T113000
DTEND;TZID=Europe/London:20231224T130000
DTSTAMP:20260419T173315
CREATED:20231130T041153Z
LAST-MODIFIED:20231130T041242Z
UID:10000028-1703417400-1703422800@beracahmusic.co.uk
SUMMARY:City Gates London Christmas Production
DESCRIPTION:Steve Thompson will be playing at his previous local church City Gates London\, Christmas Production. What a great way to celebrate Christmas Eve with the family.
URL:https://beracahmusic.co.uk/event/city-gates-london-christmas-production/2023-12-24/2/
LOCATION:City Gates Church\, 25-29 Clements Rd\,\, Ilford \, London\, Essex\, IG1 1BH\, United Kingdom
ATTACH;FMTTYPE=image/jpeg:https://beracahmusic.co.uk/wp-content/uploads/2023/11/IMG_2244.jpeg
END:VEVENT
BEGIN:VEVENT
DTSTART;TZID=Europe/London:20231224T093000
DTEND;TZID=Europe/London:20231224T113000
DTSTAMP:20260419T173315
CREATED:20231130T041337Z
LAST-MODIFIED:20231130T041338Z
UID:10000027-1703410200-1703417400@beracahmusic.co.uk
SUMMARY:City Gates London Christmas Production
DESCRIPTION:Steve Thompson will be playing at his previous local church City Gates London\, Christmas Production. What a great way to celebrate Christmas Eve with the family.
URL:https://beracahmusic.co.uk/event/city-gates-london-christmas-production-2/
LOCATION:City Gates Church\, 25-29 Clements Rd\,\, Ilford \, London\, Essex\, IG1 1BH\, United Kingdom
ATTACH;FMTTYPE=image/jpeg:https://beracahmusic.co.uk/wp-content/uploads/2023/11/IMG_2244.jpeg
END:VEVENT
BEGIN:VEVENT
DTSTART;TZID=Europe/London:20231209T193000
DTEND;TZID=Europe/London:20231209T213000
DTSTAMP:20260419T173315
CREATED:20231125T020744Z
LAST-MODIFIED:20231125T020936Z
UID:10000025-1702150200-1702157400@beracahmusic.co.uk
SUMMARY:LST Christmas Concert
DESCRIPTION:You are invited to LST’s annual Christmas Concert: A Starry Night\, on Saturday 9th December! Join us from 6.30pm for (non-alcoholic) mulled wine and mince pies in the dining hall. \nhis year is set to be a Christmas extravaganza! An evening of worship\, carols\, and a journey with the magi awaits… Featuring musical performances from the LST Jazz Ensemble\, Viva Voce\, the LST Gospel Choir\, and many more. Come and join us as we follow the star in the heavens and find where it leads…
URL:https://beracahmusic.co.uk/event/lst-christmas-concert/
LOCATION:London School of Theology\, Green Lane\, Northwood\, London\, HA6 2UW\, United Kingdom
ATTACH;FMTTYPE=image/png:https://beracahmusic.co.uk/wp-content/uploads/2023/11/image006.png
ORGANIZER;CN="London School of Theology":MAILTO:enquiries@lst.ac.uk
END:VEVENT
BEGIN:VEVENT
DTSTART;TZID=Europe/London:20231207T093000
DTEND;TZID=Europe/London:20231207T153000
DTSTAMP:20260419T173315
CREATED:20231108T174126Z
LAST-MODIFIED:20231108T174400Z
UID:10000023-1701941400-1701963000@beracahmusic.co.uk
SUMMARY:LST Music & Worship Experience Day
DESCRIPTION:Are you interested\nAre you interested in studying Theology and Music\, or developing your creative gifting in the context of theology and worship studies? \nJoin us on 7 December for a great opportunity to find out about our music and worship programmes at LST. Whether you’re a talented musician\, a budding worship leader\, or wish to develop other forms of creativity in the worship context\, our Music and Worship Experience Day will provide a valuable taster of what we offer. \nWe would love to meet you and give you the opportunity to experience a day in the life of the LST community. Come and experience a day in the life of an LST student\, hosted by the Theology\, Music and Worship Department. You can participate in our weekly communion service\, join in a choice of lectures from our three dedicated programmes\, enjoy a mini-concert\, and have lunch together. We’ll talk you through the admissions process\, and you can chat with students and faculty\, hear from recent graduates of our programmes\, and tour the campus. \n\n\nIf you think\nIf you think our Theology & Music\, Theology & Creative Musicianship\, or Theology & Worship Studies programmes might be for you\, this is your opportunity to find out more about our unique courses. You can find a more comprehensive overview of the courses on our website. We really do cater for anyone with an interest or vocation in theology\, music and worship! \nIf you are interested in studying at London School of Theology\, we would love to meet you and give you the opportunity to find out more about who we are and what we do. This experience day gives you a taste of what a day in the life of a student is like at the College. \nThe day will include: \n\nWelcome and introduction to LST\nAn introduction to our 3 music and worship courses\nA choice of timetabled lectures\nJoining the daily community worship\nLunch together in the dining room\nA mini concert and interviews with recent alumni\nMeeting students and departmental faculty\nFinding out about funding your studies\nA presentation about admissions process\nA campus tour.\n\n\n\n\n\n\n\n\n 
URL:https://beracahmusic.co.uk/event/lst-music-worship-experience-day/
LOCATION:London School of Theology\, Green Lane\, Northwood\, London\, HA6 2UW\, United Kingdom
ATTACH;FMTTYPE=image/jpeg:https://beracahmusic.co.uk/wp-content/uploads/2023/11/Images-Eventbrite-Music-Experience-Day-20231207-01-1525x1080-1.jpg
ORGANIZER;CN="London School of Theology":MAILTO:enquiries@lst.ac.uk
END:VEVENT
BEGIN:VEVENT
DTSTART;TZID=Europe/London:20231007T140000
DTEND;TZID=Europe/London:20231007T160000
DTSTAMP:20260419T173315
CREATED:20230428T222945Z
LAST-MODIFIED:20230524T210022Z
UID:10000020-1696687200-1696694400@beracahmusic.co.uk
SUMMARY:Thanksgiving Service for Care's 40th Anniversary
DESCRIPTION:Steve & Velveta Thompson will co-lead with Graham Kendrick at Care’s 40th Anniversary celebration. \nJoin us along with special guests RT Kendall\, Glen Scrivener and Graham Kendrick as we reminisce on why CARE started\, what we have achieved so far and the vision ahead with your continued support. \nWe will be letting you know how you can register for this event in the coming weeks. For now\, please do make a note of the date in your diary. We so look forward to being with you at this special gathering.
URL:https://beracahmusic.co.uk/event/thanksgiving-service-for-cares-40th-anniversary/
LOCATION:Westminister Chapel\, London\, SW1E 6BS\, United Kingdom
ATTACH;FMTTYPE=image/jpeg:https://beracahmusic.co.uk/wp-content/uploads/2023/04/Care-advert.jpg
ORGANIZER;CN="Care":MAILTO:mail@care.org.uk
END:VEVENT
BEGIN:VEVENT
DTSTART;VALUE=DATE:20230623
DTEND;VALUE=DATE:20230626
DTSTAMP:20260419T173315
CREATED:20230415T120207Z
LAST-MODIFIED:20230430T110618Z
UID:10000017-1687478400-1687737599@beracahmusic.co.uk
SUMMARY:CVM - The Gathering
DESCRIPTION:Steve Thompson will join Graham Kendrick & band at an annual men’s gathering. \nhttps://thegatheringformen.com/ \nWe are pleased to announce we are now taking bookings for TG23\, so grab a ticket for you and invite a mate or two who would benefit from coming to the Gathering! \nTG23 will be taking place\, IN A FIELD NR SWINDON\, on 23-25 June 2023. Stay connected until then by subscribing to the CVM YouTube channel as we will have loads of videos\, clips\, gospel stories and info being posted on there.
URL:https://beracahmusic.co.uk/event/cvm-the-gathering/
LOCATION:The Gathering\, The Lynt Farm\, Inglesham\, Swindon\, SN6 7QZ\, United Kingdom
ATTACH;FMTTYPE=image/png:https://beracahmusic.co.uk/wp-content/uploads/2023/04/CVM-tg23-badge-white.png
ORGANIZER;CN="CVM":MAILTO:steve.martin@cvm.org.uk
END:VEVENT
BEGIN:VEVENT
DTSTART;TZID=Europe/London:20230610T100000
DTEND;TZID=Europe/London:20230610T153000
DTSTAMP:20260419T173315
CREATED:20230516T223043Z
LAST-MODIFIED:20230516T223223Z
UID:10000021-1686391200-1686411000@beracahmusic.co.uk
SUMMARY:Faith\, seeking & Understanding Conference
DESCRIPTION:FAITH\, SEEKING\, UNDERSTANDING \nExploring Scripture\, Worship and Christian Living \nSaturday 10 June 2023\, 10:00 – 15:30\, London School of Theology\nWhat is worship? What does it really look like to worship God with our whole hearts? \nFor anyone interested in the musical expression of worship in church\, and wanting to find out more about what Biblically-based worship truly looks like\, join us for a not-to-be-missed training day on Saturday 10 June 2023 (10.00-15.30) which comes as part of our Faith Seeking Understanding series\, entitled ‘Celebrating God and his gifts through worship’. \nPerfect for worship teams to attend together\, we will have something for everyone; the day is specifically designed for anyone who wants to deepen their understanding of worship and partake in meaningful worship experiences. \nSteve Thompson\, musician\, LST faculty member and Graham Kendrick’s Music Director for 28 years\, will have us ‘Psalm surfing’ and then will hold a Masterclass in preparing for worship – invaluable for every worship band.  LST Music Programme Leader\, Rebecca Uberoi will help us think theologically about music as gift and resource for the body of Christ. Together\, they bring their years of experience and passion for helping people connect to God through worship. \nThe day is set to be interactive and hands-on\, with plenty of opportunities for you to practice what you’ve learned and get feedback from your peers. You’ll also have the chance to connect with other worship leaders from around the area and share your experiences and insights. You can attend in person (bring other members of your church’s worship team so you can learn together!) on our Northwood campus\, or online. \nThe day is set to begin with a plenary session\, followed by breakout groups – which means you can think through together about what worship could like in your local church. We’ll be looking into the theological foundations of worship\, the role of music and how to choose songs that connect your congregation to a deeper theological understanding\, the importance of diversity in worship and how to create a worshipful atmosphere – transformational stuff! \nAt just £10 per head onsite\, and £8 online\, we believe it’s an accessible way to bless your church. For further information\, or to register: https://lst.ac.uk/meeting/faith-seeking-understanding/ \nFaith\, Seeking and Understanding.mov
URL:https://beracahmusic.co.uk/event/faith-seeking-understanding-conference/
LOCATION:London School of Theology\, Green Lane\, Northwood\, London\, HA6 2UW\, United Kingdom
ATTACH;FMTTYPE=image/jpeg:https://beracahmusic.co.uk/wp-content/uploads/2023/05/FSU-Intro-Screen-scaled.jpg
ORGANIZER;CN="London School of Theology":MAILTO:enquiries@lst.ac.uk
END:VEVENT
BEGIN:VEVENT
DTSTART;TZID=Europe/London:20230527T203000
DTEND;TZID=Europe/London:20230527T223000
DTSTAMP:20260419T173315
CREATED:20230422T223834Z
LAST-MODIFIED:20230422T225405Z
UID:10000018-1685219400-1685226600@beracahmusic.co.uk
SUMMARY:Réunion with EXO
DESCRIPTION:Le groupe EXO  fait son grand retour sur l’île de la réunion\, pour un concert unique à la NORDEV SAINT-DENIS \nCHRIS & LAURA seront sur scène avec leur musiciens pour un concert exceptionnel. \nTous ensemble chantons\, louons et bondissons de joie pour le Seigneur. \n📆 DATE ET LIEU \nLe samedi 27 mai 2023 à l’occasion de la pentecôte ⛪✝️ \nAu Parc des Expositions et des Congrès de Saint-Denis \nAccès : Guichet N°3 \n🕒 HORAIRES \nOuverture du site à 18H \nDébut du concert à 20H30 \n🔖 BILLETTERIE \nPrévente : 20 € \nSur place – Guichet : 25 € \nPour les moins de 10 ans : 15 € \nATTENTION : Places limitées \nℹ️ INFOS \nPossibilité de se restaurer sur place \nInfos et renseignements : 0692 60 46 40 – 974evenementiel@gmail.com
URL:https://beracahmusic.co.uk/event/reunion-with-exo/
LOCATION:Parc des Expositions et des Congrès de Saint-Denis\, Reunion
ATTACH;FMTTYPE=image/jpeg:https://beracahmusic.co.uk/wp-content/uploads/2023/04/IMG_1945.jpeg
END:VEVENT
BEGIN:VEVENT
DTSTART;TZID=Europe/London:20230512T190000
DTEND;TZID=Europe/London:20230514T143000
DTSTAMP:20260419T173315
CREATED:20230425T150412Z
LAST-MODIFIED:20230430T130830Z
UID:10000019-1683918000-1684074600@beracahmusic.co.uk
SUMMARY:Building Dedication Conference
DESCRIPTION:Steve & Velveta will play with Graham Kendrick and band at the New Realms and Dimensions of Glory conference. With special guests\, Archbishop Charles Agyinasare & Dr Cindy Trim.
URL:https://beracahmusic.co.uk/event/building-dedication-conference/
LOCATION:Triumphant Church International\, 36 Chislehurst Road\, Orpington\, BR6 0DG\, United Kingdom
ATTACH;FMTTYPE=image/jpeg:https://beracahmusic.co.uk/wp-content/uploads/2023/04/D4E84FB7-58CA-4E3B-A505-4B5EEDD7ED6A.jpeg
ORGANIZER;CN="Pastors Clem & Majorie Esomowei":MAILTO:admin@triumphant.org.uk
END:VEVENT
BEGIN:VEVENT
DTSTART;TZID=Europe/London:20230410T160000
DTEND;TZID=Europe/London:20230410T190000
DTSTAMP:20260419T173315
CREATED:20230211T210105Z
LAST-MODIFIED:20230430T125017Z
UID:10000016-1681142400-1681153200@beracahmusic.co.uk
SUMMARY:Exo & vteam in Ivory Coast
DESCRIPTION:Steve will be the musical director for a return visit of EXO to the Ivory Coast. (Live recording) \nEntry cost 10\,000\, 20\,000\, 30\,000 CFA \nSpecial Guest: Derek-Jones \nhttps://www.facebook.com/derekjonesofficiel/videos/1258660434727756/ \n 
URL:https://beracahmusic.co.uk/event/exo-vteam-in-ivory-coast/
LOCATION:Palais de la culture\, Côte d'Ivoire
ATTACH;FMTTYPE=image/jpeg:https://beracahmusic.co.uk/wp-content/uploads/2023/02/Exo-in-Ivory-Coast.jpg
END:VEVENT
BEGIN:VEVENT
DTSTART;TZID=Europe/London:20230302T093000
DTEND;TZID=Europe/London:20230302T153000
DTSTAMP:20260419T173315
CREATED:20230210T121408Z
LAST-MODIFIED:20230210T121506Z
UID:10000015-1677749400-1677771000@beracahmusic.co.uk
SUMMARY:LST Theology\, Music & Worship Experience Day
DESCRIPTION:Interested in theology\, music and worship? \nWhether you are keen to hone your musical skills to an advanced level\, or eager to develop as a theologically informed and creative worship leader (using either musical or other creative and artistic giftings)\, we have a programme for you! \nDiscover our undergraduate programmes in: \n\nTheology and Music\nTheology and Creative Musicianship\nTheology and Worship Studies\n\nCome to our experience day: \n\nTry out a lecture\nMeet our faculty and students\nHear about our courses\nEnjoy a musical performance\nHave a tour of the campus\nLunch provided
URL:https://beracahmusic.co.uk/event/lst-theology-music-worship-experience-day/
LOCATION:London School of Theology\, Green Lane\, Northwood\, London\, HA6 2UW\, United Kingdom
ATTACH;FMTTYPE=image/jpeg:https://beracahmusic.co.uk/wp-content/uploads/2023/02/Theology-Music-Worship-Experience-Day-Flyer74.jpg
ORGANIZER;CN="London School of Theology":MAILTO:enquiries@lst.ac.uk
END:VEVENT
BEGIN:VEVENT
DTSTART;TZID=Europe/London:20230211T100000
DTEND;TZID=Europe/London:20230211T160000
DTSTAMP:20260419T173315
CREATED:20221209T154303Z
LAST-MODIFIED:20221209T154303Z
UID:10000010-1676109600-1676131200@beracahmusic.co.uk
SUMMARY:Restoring True Worship Conference
DESCRIPTION:Steve Thompson will be a guest speaker at the ‘Restoring True Worship Conference.’ \nTopics such as ‘Cultivating the Presence of God’\, ‘The Role of the Worship Team in Corporate Worship. \nPractical sessions including ‘Running an effective rehearsal’ and ‘Improving your vocal health and technique’
URL:https://beracahmusic.co.uk/event/restoring-true-worship-conference/
LOCATION:Jesus House\, 112 Brent Terrace\, Brent Cross\, London\, NW2 1LT\, United Kingdom
ATTACH;FMTTYPE=image/jpeg:https://beracahmusic.co.uk/wp-content/uploads/2022/12/WhatsApp-Image-2022-12-09-at-15.32.51.jpeg
END:VEVENT
BEGIN:VEVENT
DTSTART;TZID=Europe/London:20230206T080000
DTEND;TZID=Europe/London:20230208T200000
DTSTAMP:20260419T173315
CREATED:20230116T235934Z
LAST-MODIFIED:20230117T000018Z
UID:10000014-1675670400-1675886400@beracahmusic.co.uk
SUMMARY:London Baptist Ministers Conference
DESCRIPTION:Steve & Velveta will be leading worship at the London Baptist Ministers Conference 2023 \nMeet our Keynote Speaker…\n\n\n\nWe’re excited to welcome keynote speaker Graham Tomlin to the conference. \nGraham is a well-known author and theologian previously tutoring in historical theology and evangelism at Wycliffe Hall. He was\, for several years\, a member of the Faculty of Theology at Oxford University\, teaching on the Reformation and contemporary mission and culture\, before moving to London to launch what has become St Mellitus College. \nGraham released his latest book titled “Navigating a World of Grace: The Promise of Generous Orthodoxy” in 2022. \nMeet our Worship Team…\nWe also welcome Steve and Velveta Thompson who are leading our worship. Steve & Velveta have been part of the broader music ministry and industry for over three decades. \nThey have worked alongside their friend and mentor\, Graham Kendrick\, for over 30 years. They have also worked extensively in areas such as music production\, songwriting\, conferences\, church-related overseas work\, and TV productions. \n \nSteve and Velveta will also be leading one of the seminars at the conference\, which will be a seminar not to miss!
URL:https://beracahmusic.co.uk/event/london-baptist-ministers-conference/
LOCATION:High Leigh Conference Centre\, Lord Street\, Hoddesdon\, EN11 8SG\, United Kingdom
ATTACH;FMTTYPE=image/jpeg:https://beracahmusic.co.uk/wp-content/uploads/2023/01/London-Baptist-Conference.jpg
END:VEVENT
BEGIN:VEVENT
DTSTART;TZID=Europe/London:20221231T200000
DTEND;TZID=Europe/London:20230101T010000
DTSTAMP:20260419T173315
CREATED:20221226T195857Z
LAST-MODIFIED:20221226T195857Z
UID:10000013-1672516800-1672534800@beracahmusic.co.uk
SUMMARY:Cross Over Event With Graham Kendrick
DESCRIPTION:Steve & Velveta will be joining Graham Kendrick and the band at the Triumphant Church International.
URL:https://beracahmusic.co.uk/event/cross-over-event-with-graham-kendrick/
LOCATION:Triumphant Church International\, 36 Chislehurst Road\, Orpington\, BR6 0DG\, United Kingdom
ATTACH;FMTTYPE=image/jpeg:https://beracahmusic.co.uk/wp-content/uploads/2022/12/Triumphant-Church.jpg
END:VEVENT
BEGIN:VEVENT
DTSTART;TZID=Europe/London:20221224T180000
DTEND;TZID=Europe/London:20221224T190000
DTSTAMP:20260419T173315
CREATED:20221221T012126Z
LAST-MODIFIED:20221221T012140Z
UID:10000012-1671904800-1671908400@beracahmusic.co.uk
SUMMARY:City Gates Carol Service
DESCRIPTION:Join us for an Acoustic Carol Service featuring special guests: Noel Robinson and Steve & Velveta Thompson! 
URL:https://beracahmusic.co.uk/event/city-gates-carol-service/
LOCATION:City Gates Church\, 25-29 Clements Rd\,\, Ilford \, London\, Essex\, IG1 1BH\, United Kingdom
ATTACH;FMTTYPE=image/jpeg:https://beracahmusic.co.uk/wp-content/uploads/2022/12/City-Gates-Carol-Service.jpg
END:VEVENT
BEGIN:VEVENT
DTSTART;TZID=Europe/London:20221221T113000
DTEND;TZID=Europe/London:20221221T123000
DTSTAMP:20260419T173315
CREATED:20221219T124452Z
LAST-MODIFIED:20221219T125137Z
UID:10000011-1671622200-1671625800@beracahmusic.co.uk
SUMMARY:Christmas Carol Service at Mullbery House
DESCRIPTION:Led by The Mulberry Pastoral Team \nJoin us as we celebrate the birth of Jesus Christ. \nThe service will include carols and readings and a Christmas message from Steve Thompson. The service will last for about one hour and be followed by a 3 course Christmas Lunch. \nOur guests Steve and Velveta Thompson will sing some special Christmas pieces. \nWe will be seated at large round tables. Book just for yourself and meet new people at your table\, or book a whole table for friends and family! \nThe cost is £25.00 per person and please make your booking and payment in advance. To book please ring Michele on 01277 365398 option 4. \nAt our Carol Service\, there will be an opportunity to make a donation to the work of SNAP (Special Needs and Parents)\, based in Brentwood. SNAP supports parents and carers with children or young adults who have special needs. See their website HERE \nFor enquiries please email admin@nctuk.org
URL:https://beracahmusic.co.uk/event/christmas-carol-service-at-mullbery-house/
LOCATION:Essex
ATTACH;FMTTYPE=image/png:https://beracahmusic.co.uk/wp-content/uploads/2022/12/CE0AE8C0-A956-41D8-8256-0BA07B53458C.png
ORGANIZER;CN="Mullbery House":MAILTO:admin@nctuk.org
END:VEVENT
BEGIN:VEVENT
DTSTART;TZID=Europe/London:20221218T190000
DTEND;TZID=Europe/London:20221218T210000
DTSTAMP:20260419T173315
CREATED:20221130T014837Z
LAST-MODIFIED:20221210T090906Z
UID:10000007-1671390000-1671397200@beracahmusic.co.uk
SUMMARY:Jazz Ensemble at RBC Christmas Jazz Cafe
DESCRIPTION:With special guests\, Steve Thompson\, Raul D’Oliveira & Steve Gregory\, LST Jazz Ensemble will perform live at Romford Baptist Church Christmas Jazz Cafe. \nCome and sing along with your favourite Christmas carols with a Jazz twist. \nBook your tickets early! \n 
URL:https://beracahmusic.co.uk/event/jazz-ensemble-at-rbc-christmas-jazz-cafe/
LOCATION:Romford Baptist Church\, Main Road\, Romford\, RM1 3BL
ATTACH;FMTTYPE=image/jpeg:https://beracahmusic.co.uk/wp-content/uploads/2022/11/RBC-Christmas-Jazz-Cafe-scaled.jpg
END:VEVENT
BEGIN:VEVENT
DTSTART;TZID=Europe/London:20221216T200000
DTEND;TZID=Europe/London:20221216T213000
DTSTAMP:20260419T173315
CREATED:20221207T132131Z
LAST-MODIFIED:20221207T132305Z
UID:10000009-1671220800-1671226200@beracahmusic.co.uk
SUMMARY:Steve & Vel speak at Caribbean International Zoom Prayer meeting
DESCRIPTION:Steve & Velveta will be leading worship and speaking at the Caribbean International Zoom Prayer Session ‘Victory Forever’ hosted by the New Testament Church of God International Worship Center \n  \nOnline Zoom \nMeeting ID: 173 207 782 \nPasscode: 772465 \n \n 
URL:https://beracahmusic.co.uk/event/steve-vel-speak-at-caribbean-international-zoom-prayer-meeting/
LOCATION:Essex
ATTACH;FMTTYPE=image/jpeg:https://beracahmusic.co.uk/wp-content/uploads/2022/12/Caribbean-International-Prayer-Meeting.jpeg
END:VEVENT
BEGIN:VEVENT
DTSTART;TZID=Europe/London:20221214T213000
DTEND;TZID=Europe/London:20221214T213000
DTSTAMP:20260419T173315
CREATED:20221128T202917Z
LAST-MODIFIED:20221128T202917Z
UID:10000005-1671053400-1671053400@beracahmusic.co.uk
SUMMARY:Are you ready for Christmas?
DESCRIPTION:PRESENTED BY FESTIVA\nCONDUCTOR: JOSÉ PAINE\nACCOMPANIST: LUKE O’DONNELL\nWITH SPECIAL GUESTS: STEVE THOMPSON &\nJEMIMAH PAINE\nNARRATOR: TREVOR ADDENBROOKE\n& LES ENCORES WITH ROY SARRE
URL:https://beracahmusic.co.uk/event/are-you-ready-for-christmas/
LOCATION:St James Concert Hall\, Guernsey\, College Street\, GY1 2NZ
ATTACH;FMTTYPE=image/jpeg:https://beracahmusic.co.uk/wp-content/uploads/2022/11/Guernsey.jpg
END:VEVENT
BEGIN:VEVENT
DTSTART;TZID=Europe/London:20221212T193000
DTEND;TZID=Europe/London:20221212T193000
DTSTAMP:20260419T173315
CREATED:20221130T185052Z
LAST-MODIFIED:20221130T185149Z
UID:10000008-1670873400-1670873400@beracahmusic.co.uk
SUMMARY:Christmas Jazz Concert with LST Jazz Ensemble
DESCRIPTION:The London School of Theology Jazz Ensemble performs at the Christmas concert at the Pinner Baptist Church.
URL:https://beracahmusic.co.uk/event/christmas-jazz-concert-with-lst-jazz-ensemble/
LOCATION:Pinner Baptist Church\, 70 Paines Lane\, Pinner\, HA53BL\, United Kingdom
ATTACH;FMTTYPE=image/jpeg:https://beracahmusic.co.uk/wp-content/uploads/2022/11/Pinner-Baptist-Church-concert.jpeg
END:VEVENT
BEGIN:VEVENT
DTSTART;TZID=Europe/London:20221203T190000
DTEND;TZID=Europe/London:20221203T220000
DTSTAMP:20260419T173315
CREATED:20221031T203508Z
LAST-MODIFIED:20221031T203508Z
UID:10000004-1670094000-1670104800@beracahmusic.co.uk
SUMMARY:Graham Kendrick & Band in Concert
DESCRIPTION:Graham Kendrick k & Band in conceet. \n  \nA time of celebration and worship
URL:https://beracahmusic.co.uk/event/graham-kendrick-band-in-concert/
LOCATION:Purley Baptist Church\, Bainstead Road\, CR8 3EA\, Banstead Road\, CR8 3EA\, United Kingdom
ATTACH;FMTTYPE=image/png:https://beracahmusic.co.uk/wp-content/uploads/2022/10/Graham-Kendrick-Concert-in-December.png
END:VEVENT
END:VCALENDAR